BEGIN:VCALENDAR
VERSION:2.0
PRODID:-//Nachtclub mit Paul Baskerville - ECPv6.15.20//NONSGML v1.0//EN
CALSCALE:GREGORIAN
METHOD:PUBLISH
X-ORIGINAL-URL:https://www.paul-baskerville.de
X-WR-CALDESC:Veranstaltungen für Nachtclub mit Paul Baskerville
REFRESH-INTERVAL;VALUE=DURATION:PT1H
X-Robots-Tag:noindex
X-PUBLISHED-TTL:PT1H
BEGIN:VTIMEZONE
TZID:Europe/Berlin
BEGIN:DAYLIGHT
TZOFFSETFROM:+0100
TZOFFSETTO:+0200
TZNAME:CEST
DTSTART:20250330T010000
END:DAYLIGHT
BEGIN:STANDARD
TZOFFSETFROM:+0200
TZOFFSETTO:+0100
TZNAME:CET
DTSTART:20251026T010000
END:STANDARD
BEGIN:DAYLIGHT
TZOFFSETFROM:+0100
TZOFFSETTO:+0200
TZNAME:CEST
DTSTART:20260329T010000
END:DAYLIGHT
BEGIN:STANDARD
TZOFFSETFROM:+0200
TZOFFSETTO:+0100
TZNAME:CET
DTSTART:20261025T010000
END:STANDARD
BEGIN:DAYLIGHT
TZOFFSETFROM:+0100
TZOFFSETTO:+0200
TZNAME:CEST
DTSTART:20270328T010000
END:DAYLIGHT
BEGIN:STANDARD
TZOFFSETFROM:+0200
TZOFFSETTO:+0100
TZNAME:CET
DTSTART:20271031T010000
END:STANDARD
END:VTIMEZONE
BEGIN:VEVENT
DTSTART;TZID=Europe/Berlin:20260312T230300
DTEND;TZID=Europe/Berlin:20260312T235900
DTSTAMP:20260421T145635
CREATED:20251017T064810Z
LAST-MODIFIED:20251017T064810Z
UID:4119-1773356580-1773359940@www.paul-baskerville.de
SUMMARY:12.03.26\, 23:03
DESCRIPTION:
URL:https://www.paul-baskerville.de/event/12-03-26-2303/
CATEGORIES:Sendung
END:VEVENT
BEGIN:VEVENT
DTSTART;TZID=Europe/Berlin:20260317T220300
DTEND;TZID=Europe/Berlin:20260317T225900
DTSTAMP:20260421T145635
CREATED:20251017T064810Z
LAST-MODIFIED:20251017T064810Z
UID:4120-1773784980-1773788340@www.paul-baskerville.de
SUMMARY:17.03.26\, 22:03
DESCRIPTION:
URL:https://www.paul-baskerville.de/event/17-03-26-2203/
CATEGORIES:Sendung
END:VEVENT
BEGIN:VEVENT
DTSTART;TZID=Europe/Berlin:20260319T230300
DTEND;TZID=Europe/Berlin:20260319T235900
DTSTAMP:20260421T145635
CREATED:20251017T064810Z
LAST-MODIFIED:20251017T064810Z
UID:4121-1773961380-1773964740@www.paul-baskerville.de
SUMMARY:19.03.26\, 23:03
DESCRIPTION:
URL:https://www.paul-baskerville.de/event/19-03-26-2303/
CATEGORIES:Sendung
END:VEVENT
BEGIN:VEVENT
DTSTART;TZID=Europe/Berlin:20260324T220300
DTEND;TZID=Europe/Berlin:20260324T225900
DTSTAMP:20260421T145635
CREATED:20251017T064810Z
LAST-MODIFIED:20251017T064810Z
UID:4122-1774389780-1774393140@www.paul-baskerville.de
SUMMARY:24.03.26\, 22:03
DESCRIPTION:
URL:https://www.paul-baskerville.de/event/24-03-26-2203/
CATEGORIES:Sendung
END:VEVENT
END:VCALENDAR